BEGIN:VCALENDAR
VERSION:2.0
PRODID:-//Hochschule Coburg - ECPv6.15.15//NONSGML v1.0//EN
CALSCALE:GREGORIAN
METHOD:PUBLISH
X-WR-CALNAME:Hochschule Coburg
X-ORIGINAL-URL:https://www.hs-coburg.de/en/
X-WR-CALDESC:Events for Hochschule Coburg
REFRESH-INTERVAL;VALUE=DURATION:PT1H
X-Robots-Tag:noindex
X-PUBLISHED-TTL:PT1H
BEGIN:VTIMEZONE
TZID:Europe/Berlin
BEGIN:DAYLIGHT
TZOFFSETFROM:+0100
TZOFFSETTO:+0200
TZNAME:CEST
DTSTART:20260329T010000
END:DAYLIGHT
BEGIN:STANDARD
TZOFFSETFROM:+0200
TZOFFSETTO:+0100
TZNAME:CET
DTSTART:20261025T010000
END:STANDARD
BEGIN:DAYLIGHT
TZOFFSETFROM:+0100
TZOFFSETTO:+0200
TZNAME:CEST
DTSTART:20270328T010000
END:DAYLIGHT
BEGIN:STANDARD
TZOFFSETFROM:+0200
TZOFFSETTO:+0100
TZNAME:CET
DTSTART:20271031T010000
END:STANDARD
BEGIN:DAYLIGHT
TZOFFSETFROM:+0100
TZOFFSETTO:+0200
TZNAME:CEST
DTSTART:20280326T010000
END:DAYLIGHT
BEGIN:STANDARD
TZOFFSETFROM:+0200
TZOFFSETTO:+0100
TZNAME:CET
DTSTART:20281029T010000
END:STANDARD
END:VTIMEZONE
BEGIN:VEVENT
DTSTART;TZID=Europe/Berlin:20270331T083000
DTEND;TZID=Europe/Berlin:20270401T190000
DTSTAMP:20260423T182453
CREATED:20240912T054947Z
LAST-MODIFIED:20260323T075955Z
UID:85458-1806481800-1806606000@www.hs-coburg.de
SUMMARY:Taster days 2026
DESCRIPTION:Campus feeling and online events\nOn the taster days you can get to know Coburg University of Applied Sciences and our Bachelor's degree programs – with information about studying\, impressions of the campus and contact with professors and students! We offer you a program on site and online.  \nThe taster days take place during the Bavarian/Thuringian Easter vacations. \n\nApril 8\, 2026 in the morning at Campus Design and online in the late afternoon.\nApril 9\, 2026 at the Friedrich Streib Campus and online in the late afternoon.\n\nPlease pay attention to the respective detailed programs so that you are in the right place at the right time! \nSounds good? Then register now so that we can inform you when the programs are ready! \n \nHow to organize your taster days\nMake yourself smart\nLearn the basics about studying and study orientation before the taster days – because this will help you to better understand everything you learn about your desired degree program during the taster days. We have prepared various videos for you below.  \nNext\, take a look at which Bachelor's degree programs we offer and read the information on the degree program pages. \nCome and join us on campus\nSo\, which course or area of study sounds the most exciting? We would recommend taking part in the on-site program\, which takes place on Wednesday or Thursday mornings.  \nOf course\, you can also get a taste of other study programs or areas on site on the second morning. \nBut please note: We have several locations – please note the venue in the programs ! \nUse online offers in the afternoon\nDo you only want to take part in the taster days online? Or get to know other degree programs or areas of study? No problem:   \nLive online events will take place on both taster days from 4.00 pm: There will be a campus tour\, presentations of degree programs or study areas and a consultation hour on the topic of "Registering and studying at Coburg University of Applied Sciences". Of course\, you can also ask your questions online! You can easily find the access links in the respective detailed programs. \nProcedure for the taster days\n\n\n\n\n\n09:00 – 09:30 a.m.\nWelcome\n\n\n09:30 – 13:00\nProgram items from the various fields of study\,  e.g. presentation of the degree programs/study areas with the opportunity to ask questions\, get a taste of lectures\, lab and campus tours including a tour of the halls of residence \n\n\n1:00 p.m.\nLunch in the cafeteria / BAföG counseling (only at the Friedrich Streib campus)\n\n\n2:30 p.m.\nGuided tour of Coburg city center (separate registration by e-mail required) \n\n\n16:00 – 16:45\nOnline campus tour\n\n\n17:00 – 17:45\nOnline presentation of the degree programs and study areas with the opportunity to ask questions\n\n\n18:00 – 18:45\nOnline consultation hour “Registering and studying at Coburg University of Applied Sciences”\n\n\n\n\nProgramsWednesday\, 08.04.2026 - Taster day at Campus Design\nThe following degree programs are presented: \nBuilding & Design\nArchitecture – Building Conservation & Traditional Work Techniques*- Civil Engineering – Interior Design – Integrated Product Design – To the program \n*Program in planning; expected to start in winter semester 26/27. Start winter semester 26/27 \nThursday\, 09.04.2026 - Taster day at the Friedrich Streib Campus\nThe following degree programs are presented: \nMINT "Applied Natural Sciences" \nBioanalytics – Technical Physics – Future Technologies – To the program \nMINT "Automotive Technology & Mechanical Engineering" \nAutomotive Technology – Mechanical Engineering – each also with Industrial Engineering – To the program \nSTEM "Electrical Engineering & Computer Science" \nAutomation Technology & Robotics – Electrical and Information Technology – Renewable Energies & Energy Technology – Computer Science – Visual Computing – To the program \nSocial & Health\nHealth Promotion & Prevention (formerly "Integrative Health Promotion") – Midwifery Science – Social Work – To the program \nBusiness\nBusiness Administration – Industrial Management – Business Informatics 2.0 – Insurance Management – To the program \nYour parents or other people are welcome to accompany you on the taster days. For capacity reasons\, a few program items are reserved for prospective students. You can find out what is for whom in the respective detailed programs \nCity tourWe have organized a city tour for all those who are not yet familiar with Coburg. It starts on Wednesday\, 08.04.2026\, as well as on Thursday\, 09.04.2026\, both at 14:30 in Coburg city center. The number of places is limited. If you would like to register for the city tour\, please send an email to studienberatung@hs-coburg.de. Please let us know how many people you would like to join the tour with. \nWhere do the taster days take place?\n\n\nCampus Friedrich Streib in Coburg\nCampus Design in Coburg\n\n\n\nCateringOur guests can pay with cash in the canteen and cafeteria on the taster days (no card payment possible). \nExplanatory videos\nTake a look at our Watch the explanatory videos – here you will learn the most important things about the basics of study orientation\, registering and enrolling at Coburg University of Applied Sciences\, financing your studies and opportunities to study abroad during your studies. You can ask any questions you still have at the taster days! \n      You are currently viewing a placeholder content from YouTube. To access the actual content\, click the button below. Please note that doing so will share data with third-party providers.  More Information   Unblock content Accept required service and unblock content         You are currently viewing a placeholder content from YouTube. To access the actual content\, click the button below. Please note that doing so will share data with third-party providers.  More Information   Unblock content Accept required service and unblock content         You are currently viewing a placeholder content from YouTube. To access the actual content\, click the button below. Please note that doing so will share data with third-party providers.  More Information   Unblock content Accept required service and unblock content         You are currently viewing a placeholder content from YouTube. To access the actual content\, click the button below. Please note that doing so will share data with third-party providers.  More Information   Unblock content Accept required service and unblock content   Review\nThese were the 2025 taster days. \nRegistration for the taster daysPlease enable JavaScript in your browser to complete this form.Please enable JavaScript in your browser to complete this form.Name *VornameNachnameE-Mail *Meine Postleitzahl *Ich nehme am Vor-Ort-Programm teil:  -Mittwoch\, 08.04. am Campus Design (Bauen & Design)Donnerstag\, 09.04. am Campus Friedrich Streib (MINT „Angewandte Naturwissenschaften“)Donnerstag\, 09.04. am Campus Friedrich Streib (MINT „Automobiltechnik & Maschinenbau“)Donnerstag\, 09.04. am Campus Friedrich Streib (MINT „Elektrotechnik & Informatik“)Donnerstag\, 09.04. am Campus Friedrich Streib (Soziales und Gesundheit)Donnerstag\, 09.04. am Campus Friedrich Streib (Wirtschaft) Ich nehme am Online-Programm teil: -Mittwoch\, 08.04. Bauen & Design (online)Donnerstag\, 09.04. MINT „Angewandte Naturwissenschaften“ (online)Donnerstag\, 09.04. MINT „Automobiltechnik & Maschinenbau“ (online)Donnerstag\, 09.04. MINT „Elektrotechnik & Informatik“ (online)Donnerstag\, 09.04. Soziales und Gesundheit (online)Donnerstag\, 09.04. Wirtschaft (online)Ich bringe Begleitpersonen mit:  *01234Ich habe von den Schnuppertagen erfahren durch:Website der HS CoburgLehrkraft/Schulepersönlicher Kontakt mit Mitarbeitenden der HochschulePlakate/Bannerwerbung/FlyerSocial MediaEltern/FreundeAnderesDatenschutz *Ich habe die Datenschutzerklärung der Hochschule Coburg gelesen und stimme der Verarbeitung meiner Daten für die Veranstaltung zu.Absenden
URL:https://www.hs-coburg.de/en/veranstaltung/taster-days-2025/
LOCATION:je nach Studiengangsprogramm
CATEGORIES:External event,Study
ORGANIZER;CN="Student Advisory Service and Career Service":MAILTO:studienberatung@hs-coburg.de
END:VEVENT
END:VCALENDAR