BEGIN:VCALENDAR
VERSION:2.0
PRODID:-//Hochschule Coburg - ECPv6.15.15//NONSGML v1.0//EN
CALSCALE:GREGORIAN
METHOD:PUBLISH
X-WR-CALNAME:Hochschule Coburg
X-ORIGINAL-URL:https://www.hs-coburg.de
X-WR-CALDESC:Veranstaltungen für Hochschule Coburg
REFRESH-INTERVAL;VALUE=DURATION:PT1H
X-Robots-Tag:noindex
X-PUBLISHED-TTL:PT1H
BEGIN:VTIMEZONE
TZID:Europe/Berlin
BEGIN:DAYLIGHT
TZOFFSETFROM:+0100
TZOFFSETTO:+0200
TZNAME:CEST
DTSTART:20230326T010000
END:DAYLIGHT
BEGIN:STANDARD
TZOFFSETFROM:+0200
TZOFFSETTO:+0100
TZNAME:CET
DTSTART:20231029T010000
END:STANDARD
BEGIN:DAYLIGHT
TZOFFSETFROM:+0100
TZOFFSETTO:+0200
TZNAME:CEST
DTSTART:20240331T010000
END:DAYLIGHT
BEGIN:STANDARD
TZOFFSETFROM:+0200
TZOFFSETTO:+0100
TZNAME:CET
DTSTART:20241027T010000
END:STANDARD
BEGIN:DAYLIGHT
TZOFFSETFROM:+0100
TZOFFSETTO:+0200
TZNAME:CEST
DTSTART:20250330T010000
END:DAYLIGHT
BEGIN:STANDARD
TZOFFSETFROM:+0200
TZOFFSETTO:+0100
TZNAME:CET
DTSTART:20251026T010000
END:STANDARD
END:VTIMEZONE
BEGIN:VEVENT
DTSTART;TZID=Europe/Berlin:20240925T103000
DTEND;TZID=Europe/Berlin:20240925T111500
DTSTAMP:20260425T182047
CREATED:20240820T104346Z
LAST-MODIFIED:20240903T103101Z
UID:66040-1727260200-1727262900@www.hs-coburg.de
SUMMARY:Infoveranstaltung: Bachelorstudiengang Applied Digital Transformation B.Sc.
DESCRIPTION:Bist du bereit\, die Welt zu verändern und in die faszinierende Welt von Innovationen\, Künstlicher Intelligenz und unternehmerischen Denkens einzutauchen? Dann solltest Du unbedingt mehr über unseren Studiengang „Angewandte Digitale Transformation (Bachelor of Science)“ in Kronacherfahren! Hier bekommst Du nicht nur theoretisches Wissen an die Hand\, sondern wirst Teil eines praxisnahen Abenteuers\, bei dem Du direkt mit coolen Projektpartnern wie BMW\, Google und Lauenstein zusammenarbeitest. Um Dir einen echten Einblick zu geben und all Deine Fragen zu beantworten\, laden wir Dich zu einem virtuellen Q&A ein. \nOnline\nvia Microsoft Forms\n  \nReferenten\n\nProf. Dr. Johannes Stübinger\nChristian Grosch\n\n 
URL:https://www.hs-coburg.de/veranstaltung/applied-digital-transformation-b-sc-bachelor-infoveranstaltung/
CATEGORIES:Externe Veranstaltung,Seminar
ORGANIZER;CN="Prof. Dr. Johannes St%C3%BCbinger":MAILTO:Johannes.Stuebinger@hs-coburg.de
END:VEVENT
END:VCALENDAR