BEGIN:VCALENDAR
VERSION:2.0
PRODID:-//Hochschule Coburg - ECPv6.15.15//NONSGML v1.0//EN
CALSCALE:GREGORIAN
METHOD:PUBLISH
X-WR-CALNAME:Hochschule Coburg
X-ORIGINAL-URL:https://www.hs-coburg.de
X-WR-CALDESC:Veranstaltungen für Hochschule Coburg
REFRESH-INTERVAL;VALUE=DURATION:PT1H
X-Robots-Tag:noindex
X-PUBLISHED-TTL:PT1H
BEGIN:VTIMEZONE
TZID:Europe/Berlin
BEGIN:DAYLIGHT
TZOFFSETFROM:+0100
TZOFFSETTO:+0200
TZNAME:CEST
DTSTART:20250330T010000
END:DAYLIGHT
BEGIN:STANDARD
TZOFFSETFROM:+0200
TZOFFSETTO:+0100
TZNAME:CET
DTSTART:20251026T010000
END:STANDARD
BEGIN:DAYLIGHT
TZOFFSETFROM:+0100
TZOFFSETTO:+0200
TZNAME:CEST
DTSTART:20260329T010000
END:DAYLIGHT
BEGIN:STANDARD
TZOFFSETFROM:+0200
TZOFFSETTO:+0100
TZNAME:CET
DTSTART:20261025T010000
END:STANDARD
BEGIN:DAYLIGHT
TZOFFSETFROM:+0100
TZOFFSETTO:+0200
TZNAME:CEST
DTSTART:20270328T010000
END:DAYLIGHT
BEGIN:STANDARD
TZOFFSETFROM:+0200
TZOFFSETTO:+0100
TZNAME:CET
DTSTART:20271031T010000
END:STANDARD
END:VTIMEZONE
BEGIN:VEVENT
DTSTART;TZID=Europe/Berlin:20260205T180000
DTEND;TZID=Europe/Berlin:20260205T190000
DTSTAMP:20260423T105348
CREATED:20241211T082633Z
LAST-MODIFIED:20251111T104412Z
UID:97908-1770314400-1770318000@www.hs-coburg.de
SUMMARY:Digitaler Infoabend Master ZukunftsDesign
DESCRIPTION:Du möchtest die Zukunft deines Unternehmens aktiv mitgestalten und Innovationen erfolgreich managen? Dann laden wir dich herzlich ein\, an einem unserer digitalen Infoabende teilzunehmen! Studiengangsleiter Prof. Dr. Christian Zagel zeigt dir\, wie unser berufsbegleitender Masterstudiengang Zukunftsdesign dich optimal auf eine Karriere voller kreativer Chancen und nachhaltiger Ideen vorbereitet. Entdecke\, wie du mit uns die Weichen für eine innovative Zukunft stellen kannst! \n\n05.02.2026 – Donnerstag von 18.00 bis 19.00 Uhr\n\nAm Teams-Meeting teilnehmen  \nBesprechungs-ID: 361 101 184 965 1\nKennung: 9RM3ew6z \nÜbersicht weitere Infoabende
URL:https://www.hs-coburg.de/veranstaltung/digitaler-infoabend-master-zukunftsdesign-5/
LOCATION:Microsoft Teams
CATEGORIES:interne Veranstaltung,Online-Veranstaltung
ORGANIZER;CN="Michael Seidl":MAILTO:michael.seidl@hs-coburg.de
END:VEVENT
END:VCALENDAR