BEGIN:VCALENDAR
VERSION:2.0
PRODID:-//Hochschule Coburg - ECPv6.15.15//NONSGML v1.0//EN
CALSCALE:GREGORIAN
METHOD:PUBLISH
X-WR-CALNAME:Hochschule Coburg
X-ORIGINAL-URL:https://www.hs-coburg.de
X-WR-CALDESC:Veranstaltungen für Hochschule Coburg
REFRESH-INTERVAL;VALUE=DURATION:PT1H
X-Robots-Tag:noindex
X-PUBLISHED-TTL:PT1H
BEGIN:VTIMEZONE
TZID:Europe/Berlin
BEGIN:DAYLIGHT
TZOFFSETFROM:+0100
TZOFFSETTO:+0200
TZNAME:CEST
DTSTART:20250330T010000
END:DAYLIGHT
BEGIN:STANDARD
TZOFFSETFROM:+0200
TZOFFSETTO:+0100
TZNAME:CET
DTSTART:20251026T010000
END:STANDARD
BEGIN:DAYLIGHT
TZOFFSETFROM:+0100
TZOFFSETTO:+0200
TZNAME:CEST
DTSTART:20260329T010000
END:DAYLIGHT
BEGIN:STANDARD
TZOFFSETFROM:+0200
TZOFFSETTO:+0100
TZNAME:CET
DTSTART:20261025T010000
END:STANDARD
BEGIN:DAYLIGHT
TZOFFSETFROM:+0100
TZOFFSETTO:+0200
TZNAME:CEST
DTSTART:20270328T010000
END:DAYLIGHT
BEGIN:STANDARD
TZOFFSETFROM:+0200
TZOFFSETTO:+0100
TZNAME:CET
DTSTART:20271031T010000
END:STANDARD
END:VTIMEZONE
BEGIN:VEVENT
DTSTART;TZID=Europe/Berlin:20260114T183000
DTEND;TZID=Europe/Berlin:20260114T191500
DTSTAMP:20260423T001950
CREATED:20250508T161013Z
LAST-MODIFIED:20250917T140619Z
UID:10000342-1768415400-1768418100@www.hs-coburg.de
SUMMARY:Digitale Infosession: Wirtschaftsinformatik 2.0 (Bachelor of Science)
DESCRIPTION:Bock auf eine erfrischende Kombi aus Wirtschaft und Informatik? \nAber keinen Bock\, die ganze Zeit nur zu programmieren oder im Hörsaal trockene Theorie zu büffeln? Und Klausurphasen sind eh super nervig? \nDann ist unser Bachelor Wirtschaftsinformatik 2.0 (B.Sc.) genau dein Ding: Eine praxisnahe Ausbildung\, die BWL-Wissen mit IT-Skills in einem coolen\, aufeinander aufbauenden System verbindet. \nMit dabei: Praxispartner wie Google\, BMW oder Lauensteiner Confiserie sowie ein Team an engagierten und coolen Dozenten. \nOnline via Microsoft Teams
URL:https://www.hs-coburg.de/veranstaltung/digitaler-infosession-bachelor-wirtschaftsinformatik-2-0-2/2026-01-14/
LOCATION:Microsoft Teams
CATEGORIES:interne Veranstaltung,Online-Veranstaltung
ORGANIZER;CN="Prof. Dr. Johannes St%C3%BCbinger":MAILTO:Johannes.Stuebinger@hs-coburg.de
END:VEVENT
END:VCALENDAR