BEGIN:VCALENDAR
VERSION:2.0
PRODID:-//Hochschule Coburg - ECPv6.15.15//NONSGML v1.0//EN
CALSCALE:GREGORIAN
METHOD:PUBLISH
X-WR-CALNAME:Hochschule Coburg
X-ORIGINAL-URL:https://www.hs-coburg.de
X-WR-CALDESC:Veranstaltungen für Hochschule Coburg
REFRESH-INTERVAL;VALUE=DURATION:PT1H
X-Robots-Tag:noindex
X-PUBLISHED-TTL:PT1H
BEGIN:VTIMEZONE
TZID:Europe/Berlin
BEGIN:DAYLIGHT
TZOFFSETFROM:+0100
TZOFFSETTO:+0200
TZNAME:CEST
DTSTART:20240331T010000
END:DAYLIGHT
BEGIN:STANDARD
TZOFFSETFROM:+0200
TZOFFSETTO:+0100
TZNAME:CET
DTSTART:20241027T010000
END:STANDARD
BEGIN:DAYLIGHT
TZOFFSETFROM:+0100
TZOFFSETTO:+0200
TZNAME:CEST
DTSTART:20250330T010000
END:DAYLIGHT
BEGIN:STANDARD
TZOFFSETFROM:+0200
TZOFFSETTO:+0100
TZNAME:CET
DTSTART:20251026T010000
END:STANDARD
BEGIN:DAYLIGHT
TZOFFSETFROM:+0100
TZOFFSETTO:+0200
TZNAME:CEST
DTSTART:20260329T010000
END:DAYLIGHT
BEGIN:STANDARD
TZOFFSETFROM:+0200
TZOFFSETTO:+0100
TZNAME:CET
DTSTART:20261025T010000
END:STANDARD
END:VTIMEZONE
BEGIN:VEVENT
DTSTART;TZID=Europe/Berlin:20251119T190000
DTEND;TZID=Europe/Berlin:20251119T210000
DTSTAMP:20260422T120355
CREATED:20251104T103613Z
LAST-MODIFIED:20251119T073003Z
UID:111786-1763578800-1763586000@www.hs-coburg.de
SUMMARY:Filmabend „KLAPPE\, DIE VIERTE - Rehab From Rehab“ von Bêka & Lemoine
DESCRIPTION:Ein filmischer Blick darauf\, wie Architektur heilen hilft – dort\, wo Verletzlichkeit Raum braucht. \nIm Rahmen der Ausstellung „Das Kranke(n)haus. Wie Architektur heilen hilft" (08.11 – 14.12.2025)\, die vom Coburger Designforum Oberfranken e.V. realisiert wird\, zeigen wir den bewegenden Film „Rehab from Rehab" von Bêka & Lemoine. Ein Werk\, das nicht einfach zeigt\, wie Architektur aussieht\, sondern wie Räume wahrgenommen werden\, wenn man sich in einem sensiblen Heilungsprozess befindet.\nDer Film führt uns in das REHAB Basel – ein von Herzog & de Meuron konzipiertes Rehabilitationszentrum\, das zu einem Pionierort ganzheitlicher Heilung wurde. Doch die Architektur steht hier nicht als Objekt im Vordergrund – sondern als Begleiter von Genesung\, Würde und Hoffnung. \nDurch die persönliche Geschichte von Louise Lemoine\, deren Kindheit von Aufenthalten in Rehazentren geprägt war\, entsteht ein intimer Dialog zwischen Erinnerung und Raum. Die Kamera tastet sich langsam voran – dorthin\, wo ein Oberlicht mehr ist als nur Licht\, wo ein Garten Trost wird\, wo ein Luftzug wie ein leises Versprechen wirkt:\nHeilung ist mehr als Therapie. Sie ist Resonanz zwischen Körper und Raum. \nInternationale Kritiker bezeichnen den Film als „ergreifend"\, „poetisch"\, „eine Erkundung dessen\, worum es bei Architektur wirklich geht". Denn hier wird deutlich:\nHeilende Architektur ist keine Maschine – sie ist ein Gegenüber. Ein Resonanzraum für Menschlichkeit. \nNach der Filmvorführung laden wir zum Gespräch mit Prof. Gemma Koppen Gemma Koppen | Hochschule Coburg von der Hochschule Coburg ein. Als Architektin und Professorin\, unter anderem mit dem Schwerpunkt Architecture for Health\, eröffnet sie einen fundierten Blick auf die Frage:\n „Wie kann Architektur helfen zu heilen?" \nDer Austausch bietet Raum für Reflexion\, Diskussion und persönliche Perspektiven aus Praxis\, Forschung und eigener Erfahrung. \nDer Filmabend\, der sonst auf dem Schlachthofareal stattfindet\, bringt seine Leinwand dieses Mal mitten in die Coburger Innenstadt. Ein Ortswechsel\, der die Themen der Ausstellung „Das Kranke(n)haus. Wie Architektur heilen hilft" aufgreift und vertieft. \nWeitere Infos zum Film und zur Veranstaltung \n\nTrailer zum Film: REHAB (FROM REHAB) – Trailer – Bêka & Lemoine – Herzog & de Meuron auf Vimeo\nSprache: Englisch (OmU)\, Dauer: 1 Stunde 26 Minuten\, Genre: Art\, Documentary\nVerpflegung: Softdrinks & Popcorn\n\n📍 Spitalgasse 12 (2.OG) in Coburg\n⏰ 19. November\, 2025 I 19 Uhr (Änderung vorbehalten) \nProgramm: \n\nBegrüßung: Christine Kirchner\nEinleitung: Prof. Gemma Koppen\nFilm: Rehab from Rehab\, a film by Bêka & Lemoine\nDiskussion mit den Gästen: Thema: „Wie kann Architektur helfen zu heilen?"\n\nWeitere Links:\nHealing Architecture – Coburger Designforum Oberfranken\nLA INFIRMITA: Wie Heilende Architektur entsteht! | Hochschule Coburg \nDer Filmabend wird realisiert vom Referat Transfer & Entrepreneurship Referat Transfer und Entrepreneurship | Hochschule Coburg der Hochschule Coburg im Rahmen des Projekts CREAPOLIS + design Creapolis + design 2023 – 2027 | Hochschule Coburg\, gefördert durch die Bund-Länder-Initiative Innovative Hochschule und in Kooperation mit dem Coburger Designforum Oberfranken e.V. Coburger Designforum Oberfranken | CDO durchgeführt.
URL:https://www.hs-coburg.de/veranstaltung/filmabend-klappe-die-vierte/
LOCATION:Spitalgasse 12 (2. OG)\, Spitalgasse 12 (2. OG)\, Coburg\, 96450
CATEGORIES:Filmabend
ORGANIZER;CN="Janine Difour":MAILTO:janine.difour@hs-coburg.de
END:VEVENT
END:VCALENDAR