BEGIN:VCALENDAR
VERSION:2.0
PRODID:-//Hochschule Coburg - ECPv6.15.15//NONSGML v1.0//EN
CALSCALE:GREGORIAN
METHOD:PUBLISH
X-WR-CALNAME:Hochschule Coburg
X-ORIGINAL-URL:https://www.hs-coburg.de
X-WR-CALDESC:Veranstaltungen für Hochschule Coburg
REFRESH-INTERVAL;VALUE=DURATION:PT1H
X-Robots-Tag:noindex
X-PUBLISHED-TTL:PT1H
BEGIN:VTIMEZONE
TZID:Europe/Berlin
BEGIN:DAYLIGHT
TZOFFSETFROM:+0100
TZOFFSETTO:+0200
TZNAME:CEST
DTSTART:20250330T010000
END:DAYLIGHT
BEGIN:STANDARD
TZOFFSETFROM:+0200
TZOFFSETTO:+0100
TZNAME:CET
DTSTART:20251026T010000
END:STANDARD
BEGIN:DAYLIGHT
TZOFFSETFROM:+0100
TZOFFSETTO:+0200
TZNAME:CEST
DTSTART:20260329T010000
END:DAYLIGHT
BEGIN:STANDARD
TZOFFSETFROM:+0200
TZOFFSETTO:+0100
TZNAME:CET
DTSTART:20261025T010000
END:STANDARD
BEGIN:DAYLIGHT
TZOFFSETFROM:+0100
TZOFFSETTO:+0200
TZNAME:CEST
DTSTART:20270328T010000
END:DAYLIGHT
BEGIN:STANDARD
TZOFFSETFROM:+0200
TZOFFSETTO:+0100
TZNAME:CET
DTSTART:20271031T010000
END:STANDARD
END:VTIMEZONE
BEGIN:VEVENT
DTSTART;TZID=Europe/Berlin:20260625T170000
DTEND;TZID=Europe/Berlin:20260625T170000
DTSTAMP:20260422T211817
CREATED:20250605T120254Z
LAST-MODIFIED:20260422T140925Z
UID:105881-1782406800-1782406800@www.hs-coburg.de
SUMMARY:Finale des diesjährigen Ideenwettbewerbs
DESCRIPTION:Am Donnerstag\, den 25. Juni 2026\, findet ab 17:00 Uhr das Finale des diesjährigen Ideenwettbewerbs der Hochschule Coburg im ITMZ am Campus Friedrich Streib statt. \nZehn ausgewählte Beiträge aus dem Wettbewerb präsentieren ihre Ideen in kurzen Pitches vor einer Fachjury und dem Publikum. Die Veranstaltung bietet Hochschulangehörigen eine Plattform\, um innovative Projektansätze aus unterschiedlichen Bereichen sichtbar zu machen. \nDas Publikum ist aktiv in das Geschehen eingebunden: Die Stimmen des Publikums fließen in die finale Jurybewertung mit ein. Alle Interessierten – Studierende\, Mitarbeitende sowie Alumni und externe Gäste – sind herzlich eingeladen\, an der Veranstaltung teilzunehmen\, sich auszutauschen und die Ideen mit ihrer Stimme zu unterstützen. \nIm Rahmen des Finales haben die besten Teams die Chance\, Innovationsgutscheine für ihre Projekte zu gewinnen: \n🏆 1. Platz – 300 €🥈 2. Platz – 200 €🥉 3. Platz – 100 € \nFür die Teilnehmenden sowie für alle Gäste stehen vor Ort kleine Snacks und Getränke bereit. Die Anmeldung ist erwünscht\, aber nicht verpflichtend. \n📅 Datum: 25. Juni 2026🕔 Uhrzeit: 17:00 Uhr📍 Ort: ITMZ\, Campus Friedrich Streib\, Hochschule Coburg📩 Anmeldung: gruenden@hs-coburg.de
URL:https://www.hs-coburg.de/veranstaltung/finale-ideenwettbewerb/
LOCATION:Campus Friedrich Streib\, ITMZ\, Raum 4-019\, Friedrich-Streib-Straße 2\, Coburg\, 96450\, Deutschland
CATEGORIES:interne Veranstaltung
ORGANIZER;CN="Thomas Nick":MAILTO:thomas.nick@hs-coburg.de
END:VEVENT
END:VCALENDAR