BEGIN:VCALENDAR
VERSION:2.0
PRODID:-//Hochschule Coburg - ECPv6.15.15//NONSGML v1.0//EN
CALSCALE:GREGORIAN
METHOD:PUBLISH
X-WR-CALNAME:Hochschule Coburg
X-ORIGINAL-URL:https://www.hs-coburg.de
X-WR-CALDESC:Veranstaltungen für Hochschule Coburg
REFRESH-INTERVAL;VALUE=DURATION:PT1H
X-Robots-Tag:noindex
X-PUBLISHED-TTL:PT1H
BEGIN:VTIMEZONE
TZID:Europe/Berlin
BEGIN:DAYLIGHT
TZOFFSETFROM:+0100
TZOFFSETTO:+0200
TZNAME:CEST
DTSTART:20250330T010000
END:DAYLIGHT
BEGIN:STANDARD
TZOFFSETFROM:+0200
TZOFFSETTO:+0100
TZNAME:CET
DTSTART:20251026T010000
END:STANDARD
BEGIN:DAYLIGHT
TZOFFSETFROM:+0100
TZOFFSETTO:+0200
TZNAME:CEST
DTSTART:20260329T010000
END:DAYLIGHT
BEGIN:STANDARD
TZOFFSETFROM:+0200
TZOFFSETTO:+0100
TZNAME:CET
DTSTART:20261025T010000
END:STANDARD
BEGIN:DAYLIGHT
TZOFFSETFROM:+0100
TZOFFSETTO:+0200
TZNAME:CEST
DTSTART:20270328T010000
END:DAYLIGHT
BEGIN:STANDARD
TZOFFSETFROM:+0200
TZOFFSETTO:+0100
TZNAME:CET
DTSTART:20271031T010000
END:STANDARD
END:VTIMEZONE
BEGIN:VEVENT
DTSTART;TZID=Europe/Berlin:20260126T173000
DTEND;TZID=Europe/Berlin:20260126T183000
DTSTAMP:20260422T145722
CREATED:20251031T093217Z
LAST-MODIFIED:20251031T093217Z
UID:111628-1769448600-1769452200@www.hs-coburg.de
SUMMARY:Informationsveranstaltung zu „Orientierungssemester – Studieren probieren“
DESCRIPTION:WAS?\n\nStudieren probieren: Das Orientierungssemester ist ein Modulstudium\, in dem du Campusluft schnuppern\, mit einem ganz individuellen Stundenplan einen oder mehrere Studiengänge kennenlernen und\, falls du möchtest\, sogar schon erste Prüfungen ablegen kannst. Zur Wahl stehen Module aus den Bereichen Naturwissenschaften\, Technik & Informatik\, Bauen & Design\, Soziales & Gesundheit sowie Wirtschaft. Ein Orientierungssemester ist im Winter- und/oder im Sommersemester möglich. \nWANN? \nMontag\, 26. Januar 2025 | 17:30 Uhr \nWO? \nOnline via Teams \nKONTAKT \nStudienberatung & Career Service \nTel: 09561-317-247\nMail: studienberatung@hs-coburg.de \n 
URL:https://www.hs-coburg.de/veranstaltung/informationsveranstaltung-zu-orientierungssemester-studieren-probieren/
LOCATION:Microsoft Teams
CATEGORIES:Online-Veranstaltung
ORGANIZER;CN="Studienberatung und Career Service":MAILTO:studienberatung@hs-coburg.de
END:VEVENT
END:VCALENDAR