BEGIN:VCALENDAR
VERSION:2.0
PRODID:-//Hochschule Coburg - ECPv6.15.15//NONSGML v1.0//EN
CALSCALE:GREGORIAN
METHOD:PUBLISH
X-WR-CALNAME:Hochschule Coburg
X-ORIGINAL-URL:https://www.hs-coburg.de
X-WR-CALDESC:Veranstaltungen für Hochschule Coburg
REFRESH-INTERVAL;VALUE=DURATION:PT1H
X-Robots-Tag:noindex
X-PUBLISHED-TTL:PT1H
BEGIN:VTIMEZONE
TZID:Europe/Berlin
BEGIN:DAYLIGHT
TZOFFSETFROM:+0100
TZOFFSETTO:+0200
TZNAME:CEST
DTSTART:20240331T010000
END:DAYLIGHT
BEGIN:STANDARD
TZOFFSETFROM:+0200
TZOFFSETTO:+0100
TZNAME:CET
DTSTART:20241027T010000
END:STANDARD
BEGIN:DAYLIGHT
TZOFFSETFROM:+0100
TZOFFSETTO:+0200
TZNAME:CEST
DTSTART:20250330T010000
END:DAYLIGHT
BEGIN:STANDARD
TZOFFSETFROM:+0200
TZOFFSETTO:+0100
TZNAME:CET
DTSTART:20251026T010000
END:STANDARD
BEGIN:DAYLIGHT
TZOFFSETFROM:+0100
TZOFFSETTO:+0200
TZNAME:CEST
DTSTART:20260329T010000
END:DAYLIGHT
BEGIN:STANDARD
TZOFFSETFROM:+0200
TZOFFSETTO:+0100
TZNAME:CET
DTSTART:20261025T010000
END:STANDARD
END:VTIMEZONE
BEGIN:VEVENT
DTSTART;TZID=Europe/Berlin:20251022T160000
DTEND;TZID=Europe/Berlin:20251022T180000
DTSTAMP:20260422T161225
CREATED:20251016T093819Z
LAST-MODIFIED:20251016T093913Z
UID:110942-1761148800-1761156000@www.hs-coburg.de
SUMMARY:Innovationsfonds Transfer: 2025
DESCRIPTION:14 Transfer-Projekte wurden im Jahr 2025 mit dem Innovationsfonds Transfer mit bis zu 10.000 Euro unterstützt. Um gemeinsam auf den Abschluss der Förderperiode und den Beginn des neuen Bewerbungszeitraums anzustoßen\, laden wir Sie am Mittwoch\, den 22. Oktober 2025\, um 16 Uhr herzlich in das Foyer des ITMZ am Campus Friedrich Streib ein. \nProgramm: \n\nBegrüßung durch Dr. Markus Neufeld\, Leiter des Referats Transfer & Entrepreneurship\nOffizielle Eröffnung der Ausstellung durch Prof. Dr. Felix Weispfenning Vizepräsident für nachhaltige Regionalentwicklung\nGemeinsamer Gallery Walk durch die Poster-Ausstellung mit einer kurzen Präsentation der einzelnen Projekte durch die jeweilige Projektleitung\n\nDie Posterausstellung ist bis Freitag\, den 7. November 2025\, im Foyer des ITMZ zu sehen. \nBei Fragen zu Ablauf und Organisation steht Ihnen Janine Difour unter -8063 oder transfer-innofonds@hs-coburg.de zur Verfügung.
URL:https://www.hs-coburg.de/veranstaltung/innovationsfonds-transfer-2025/
LOCATION:Foyer im ITMZ
CATEGORIES:Ausstellung,Projekte
ATTACH;FMTTYPE=image/jpeg:https://www.hs-coburg.de/wp-content/uploads/2025/10/Innovationsfonds_Transfer25.jpg
ORGANIZER;CN="Janine Difour":MAILTO:janine.difour@hs-coburg.de
END:VEVENT
END:VCALENDAR