BEGIN:VCALENDAR
VERSION:2.0
PRODID:-//Hochschule Coburg - ECPv6.15.15//NONSGML v1.0//EN
CALSCALE:GREGORIAN
METHOD:PUBLISH
X-WR-CALNAME:Hochschule Coburg
X-ORIGINAL-URL:https://www.hs-coburg.de
X-WR-CALDESC:Veranstaltungen für Hochschule Coburg
REFRESH-INTERVAL;VALUE=DURATION:PT1H
X-Robots-Tag:noindex
X-PUBLISHED-TTL:PT1H
BEGIN:VTIMEZONE
TZID:Europe/Berlin
BEGIN:DAYLIGHT
TZOFFSETFROM:+0100
TZOFFSETTO:+0200
TZNAME:CEST
DTSTART:20230326T010000
END:DAYLIGHT
BEGIN:STANDARD
TZOFFSETFROM:+0200
TZOFFSETTO:+0100
TZNAME:CET
DTSTART:20231029T010000
END:STANDARD
BEGIN:DAYLIGHT
TZOFFSETFROM:+0100
TZOFFSETTO:+0200
TZNAME:CEST
DTSTART:20240331T010000
END:DAYLIGHT
BEGIN:STANDARD
TZOFFSETFROM:+0200
TZOFFSETTO:+0100
TZNAME:CET
DTSTART:20241027T010000
END:STANDARD
BEGIN:DAYLIGHT
TZOFFSETFROM:+0100
TZOFFSETTO:+0200
TZNAME:CEST
DTSTART:20250330T010000
END:DAYLIGHT
BEGIN:STANDARD
TZOFFSETFROM:+0200
TZOFFSETTO:+0100
TZNAME:CET
DTSTART:20251026T010000
END:STANDARD
END:VTIMEZONE
BEGIN:VEVENT
DTSTART;TZID=Europe/Berlin:20241107T110000
DTEND;TZID=Europe/Berlin:20241107T160000
DTSTAMP:20260425T194154
CREATED:20241029T083311Z
LAST-MODIFIED:20241029T083311Z
UID:95244-1730977200-1730995200@www.hs-coburg.de
SUMMARY:Nachhaltige Bildung x MINT Bildung x Schule-Hochschul-Praxiskooperation
DESCRIPTION:Unser externer Projektpartner Save nature e.V. kommt vorbei und bringt sein Plastikrecycling-Fahrrad mit. Vormittags werden zwei Schulklassen mit Ihren Lehrkräften vor Ort sein\, um das BNE-Angebot live zu erleben. Ab 11 Uhr findet das Ganze als Open Door Veranstaltung statt. Bis 16 Uhr ist der Projektpartner vor Ort und man kann jederzeit (ohne feste Termine und Voranmeldung) problemlos dazustoßen. \nDas Spannende ist\, dass man die Aktion unter verschiedenen thematischen Aspekten praktisch erleben kann (Bildung für nachhaltige Entwicklung\, Abfallvermeidung und Upcycling\, technische Umsetzung von Re- und Upcycling\, …) und auch mit dem Projektpartner vor Ort ins Gespräch kommen kann\, um die erlebte Praxis zu reflektieren. \nHaben Sie / hast Du Lust an der Entwicklung eines langfristigen Geschäftsmodells für dieses innovative BNE-Format mitzuwirken oder weitergehende Fragestellungen zur Unterstützung des Vereins zu bearbeiten (Design der Produkte\, des Mobils\, materialspezifische Themenstellungen etc.)? \nKommt vorbei und lernt das “Kunststoff-Recycling-Mobil” der Save Nature Group kennen! \nEine Veranstaltung von Prof. Dr. Susanne Esslinger in Kooperation mit ERIC und dem Referat Transfer & Entrepreneurship im Rahmen der Public Climate School Woche.
URL:https://www.hs-coburg.de/veranstaltung/nachhaltige-bildung-x-mint-bildung-x-schule-hochschul-praxiskooperation/
LOCATION:CREAPOLIS Makerspace\, Schlachthofstr. 1\, Coburg\, 96450
CATEGORIES:Externe Veranstaltung,Nachhaltigkeit
ORGANIZER;CN="Julia Karberg":MAILTO:julia.karberg@hs-coburg.de
END:VEVENT
END:VCALENDAR