BEGIN:VCALENDAR
VERSION:2.0
PRODID:-//Hochschule Coburg - ECPv6.15.15//NONSGML v1.0//EN
CALSCALE:GREGORIAN
METHOD:PUBLISH
X-WR-CALNAME:Hochschule Coburg
X-ORIGINAL-URL:https://www.hs-coburg.de
X-WR-CALDESC:Veranstaltungen für Hochschule Coburg
REFRESH-INTERVAL;VALUE=DURATION:PT1H
X-Robots-Tag:noindex
X-PUBLISHED-TTL:PT1H
BEGIN:VTIMEZONE
TZID:Europe/Berlin
BEGIN:DAYLIGHT
TZOFFSETFROM:+0100
TZOFFSETTO:+0200
TZNAME:CEST
DTSTART:20250330T010000
END:DAYLIGHT
BEGIN:STANDARD
TZOFFSETFROM:+0200
TZOFFSETTO:+0100
TZNAME:CET
DTSTART:20251026T010000
END:STANDARD
BEGIN:DAYLIGHT
TZOFFSETFROM:+0100
TZOFFSETTO:+0200
TZNAME:CEST
DTSTART:20260329T010000
END:DAYLIGHT
BEGIN:STANDARD
TZOFFSETFROM:+0200
TZOFFSETTO:+0100
TZNAME:CET
DTSTART:20261025T010000
END:STANDARD
BEGIN:DAYLIGHT
TZOFFSETFROM:+0100
TZOFFSETTO:+0200
TZNAME:CEST
DTSTART:20270328T010000
END:DAYLIGHT
BEGIN:STANDARD
TZOFFSETFROM:+0200
TZOFFSETTO:+0100
TZNAME:CET
DTSTART:20271031T010000
END:STANDARD
END:VTIMEZONE
BEGIN:VEVENT
DTSTART;TZID=Europe/Berlin:20260210T180000
DTEND;TZID=Europe/Berlin:20260210T190000
DTSTAMP:20260422T201255
CREATED:20250625T104931Z
LAST-MODIFIED:20260116T120841Z
UID:106841-1770746400-1770750000@www.hs-coburg.de
SUMMARY:Online Infoabend – Betriebswirtschaft berufsbegleitend. Erfolgreich neben dem Beruf studieren!
DESCRIPTION:Warum lohnt sich ein berufsbegleitendes BWL-Studium? Welche Optionen gibt es – und welches Programm passt zu Ihnen?Wir geben Ihnen einen kompakten Überblick und zeigen\, worauf es bei der Auswahl eines berufsbegleitenden Studiengangs ankommt. Außerdem stellen wir Ihnen die berufsbegleitenden Bachelor- und MBA-Programme in Betriebswirtschaft der Hochschule Coburg vor.Melden Sie sich jetzt an – wir freuen uns auf Sie! Alle Infos und Anmeldung  \n 
URL:https://www.hs-coburg.de/veranstaltung/online-infoabend-betriebswirtschaft-berufsbegleitend-erfolgreich-neben-dem-beruf-studieren/
CATEGORIES:Online-Veranstaltung,Weiterbildung
ORGANIZER;CN="Kerstin Buhl":MAILTO:kerstin.buhl@hs-coburg.de
END:VEVENT
END:VCALENDAR