BEGIN:VCALENDAR
VERSION:2.0
PRODID:-//Hochschule Coburg - ECPv6.15.15//NONSGML v1.0//EN
CALSCALE:GREGORIAN
METHOD:PUBLISH
X-WR-CALNAME:Hochschule Coburg
X-ORIGINAL-URL:https://www.hs-coburg.de
X-WR-CALDESC:Veranstaltungen für Hochschule Coburg
REFRESH-INTERVAL;VALUE=DURATION:PT1H
X-Robots-Tag:noindex
X-PUBLISHED-TTL:PT1H
BEGIN:VTIMEZONE
TZID:Europe/Berlin
BEGIN:DAYLIGHT
TZOFFSETFROM:+0100
TZOFFSETTO:+0200
TZNAME:CEST
DTSTART:20240331T010000
END:DAYLIGHT
BEGIN:STANDARD
TZOFFSETFROM:+0200
TZOFFSETTO:+0100
TZNAME:CET
DTSTART:20241027T010000
END:STANDARD
BEGIN:DAYLIGHT
TZOFFSETFROM:+0100
TZOFFSETTO:+0200
TZNAME:CEST
DTSTART:20250330T010000
END:DAYLIGHT
BEGIN:STANDARD
TZOFFSETFROM:+0200
TZOFFSETTO:+0100
TZNAME:CET
DTSTART:20251026T010000
END:STANDARD
BEGIN:DAYLIGHT
TZOFFSETFROM:+0100
TZOFFSETTO:+0200
TZNAME:CEST
DTSTART:20260329T010000
END:DAYLIGHT
BEGIN:STANDARD
TZOFFSETFROM:+0200
TZOFFSETTO:+0100
TZNAME:CET
DTSTART:20261025T010000
END:STANDARD
END:VTIMEZONE
BEGIN:VEVENT
DTSTART;TZID=Europe/Berlin:20250320T153000
DTEND;TZID=Europe/Berlin:20250320T210000
DTSTAMP:20260423T095512
CREATED:20250128T145643Z
LAST-MODIFIED:20250210T110114Z
UID:99078-1742484600-1742504400@www.hs-coburg.de
SUMMARY:OUTDOOR - Entwurfsstrategien für eine nachhaltige Zukunft
DESCRIPTION:Sei dabei\, wenn innovatives Design auf eine nachhaltige Zukunft trifft – OUTDOOR ist ein partizipatives Event\, das zum Austausch in entspannter Atmosphäre\, Erkenntnisgewinn und Netzwerken einlädt. \nWas dich erwartet:\nVorstellung der Publikation „Outdoor" \nDie Publikation ist aus einem Kooperationsprojekt des Studiengangs Integriertes Produktdesign mit der renommierten Outdoormarke VAUDE entstanden und liefert darüber hinaus wertvolle Einblicke durch Textbeträge aus Wissenschaft und Praxis mit Blick auf die Designdisziplin. \nPodiumsdiskussion \nExpertinnen und Experten diskutieren die unterschiedlichen Perspektiven auf die gestalterischen Herausforderungen der Zukunft mit besonderem Fokus auf Nachhaltigkeit und zirkuläres Design. \nWerkcafé \nDas Werkcafé bildet den zweiten Block der Veranstaltung. Das Format soll alle Teilnehmenden zu einem aktiven Diskurs einladen\, spannende Fragestellungen und Perspektiven auf eine nachhaltige Zukunft beleuchten und neue Erkenntnisse beflügeln. Im Werkcafé gibt es zwei Gruppen mit unterschiedlichen Schwerpunkten. In Gruppe A liegt der Schwerpunkt auf „Produktentwicklung & Materialforschung" und in Gruppe B auf „Netzwerke & gesellschaftlicher Wandel". Bei der Anmeldung ist bereits eine Präferenz anzugeben. \nGemeinsamer Abschluss \nZum Abschluss der Veranstaltung gibt es ein gemeinsames Wrap-up\, sowie Food & Drinks auf Eigenkosten und die Gelegenheit zum weiteren Austausch in entspannter Atmosphäre. \nWichtig \nDer Eintritt zur Veranstaltung ist frei und es wird Verpflegung auf Eigenkosten angeboten. \nDie Plätze sind begrenzt und die Teilnahme ist nur mit vorheriger Anmeldung möglich! Dies gilt ebenfalls für Hochschulangehörige. \nWir freuen uns auf deine Teilnahme. Sichere dir deinen Platz und melde dich jetzt verbindlich an! \nProgrammAnmeldung Outdoor - Entwurfsstrategien für eine nachhaltige Zukunft\nBitte aktiviere JavaScript in deinem Browser\, um dieses Formular fertigzustellen.Bitte aktiviere JavaScript in deinem Browser\, um dieses Formular fertigzustellen.Name *VornameNachnameE-Mail-Adresse *Unternehmen/Einrichtung *Position/FachgebietPräferenz SchwerpunktGruppe A - "Produktentwicklung & Materialforschung"Gruppe B -"Netzwerke & gesellschaftlicher Wandel"Datenschutzerklärung *Ich habe die Datenschutzerklärung (unter https://www.hs-coburg.de/datenschutz/) der Hochschule Coburg gelesen und stimme der Verarbeitung meiner Daten für die Veranstaltung zu.Absenden
URL:https://www.hs-coburg.de/veranstaltung/outdoor-entwurfsstrategien-fuer-eine-nachhaltige-zukunft/
LOCATION:Alte Kühlhalle\, Schlachthofstr. 1\, Coburg\, 96450
CATEGORIES:Launch-Event,Podiumsdiskussion,Werkcafé
ORGANIZER;CN="Franziska Ritz":MAILTO:franziska.ritz@hs-coburg.de
END:VEVENT
END:VCALENDAR