BEGIN:VCALENDAR
VERSION:2.0
PRODID:-//Hochschule Coburg - ECPv6.15.15//NONSGML v1.0//EN
CALSCALE:GREGORIAN
METHOD:PUBLISH
X-WR-CALNAME:Hochschule Coburg
X-ORIGINAL-URL:https://www.hs-coburg.de
X-WR-CALDESC:Veranstaltungen für Hochschule Coburg
REFRESH-INTERVAL;VALUE=DURATION:PT1H
X-Robots-Tag:noindex
X-PUBLISHED-TTL:PT1H
BEGIN:VTIMEZONE
TZID:Europe/Berlin
BEGIN:DAYLIGHT
TZOFFSETFROM:+0100
TZOFFSETTO:+0200
TZNAME:CEST
DTSTART:20260329T010000
END:DAYLIGHT
BEGIN:STANDARD
TZOFFSETFROM:+0200
TZOFFSETTO:+0100
TZNAME:CET
DTSTART:20261025T010000
END:STANDARD
BEGIN:DAYLIGHT
TZOFFSETFROM:+0100
TZOFFSETTO:+0200
TZNAME:CEST
DTSTART:20270328T010000
END:DAYLIGHT
BEGIN:STANDARD
TZOFFSETFROM:+0200
TZOFFSETTO:+0100
TZNAME:CET
DTSTART:20271031T010000
END:STANDARD
BEGIN:DAYLIGHT
TZOFFSETFROM:+0100
TZOFFSETTO:+0200
TZNAME:CEST
DTSTART:20280326T010000
END:DAYLIGHT
BEGIN:STANDARD
TZOFFSETFROM:+0200
TZOFFSETTO:+0100
TZNAME:CET
DTSTART:20281029T010000
END:STANDARD
END:VTIMEZONE
BEGIN:VEVENT
DTSTART;TZID=Europe/Berlin:20270331T083000
DTEND;TZID=Europe/Berlin:20270401T190000
DTSTAMP:20260421T055625
CREATED:20240912T054947Z
LAST-MODIFIED:20260420T091133Z
UID:82223-1806481800-1806606000@www.hs-coburg.de
SUMMARY:Schnuppertage 2027
DESCRIPTION:Campus-Feeling und Online-Events\nAn den Schnuppertagen könnt ihr die Hochschule Coburg und unsere Bachelor-Studiengänge kennenlernen – mit Infos zum Studium\, Eindrücken vom Campus und Kontakt zu Profs und Studis! Wir bieten euch ein Programm vor Ort und online. \nDie Schnuppertage finden in den bayerischen/thüringischen Osterferien statt. \n\n31. März 2027 vormittags am Campus Design und am späten Nachmittag online.\n1. April 2027 am Campus Friedrich Streib bzw. am Lucas-Cranach-Campus und am späten Nachmittag online.\n\nGenaue Programminformationen folgen im März 2027! \nKlingt gut? Dann meldet euch gleich an! \n \nSo gestaltest du deine Schnuppertage\nMach dich schlau\nLerne vor den Schnuppertagen die Basics zum Thema Studium und Studienorientierung kennen – denn so wirst du alles\, was du an den Schnuppertagen über deinen Wunsch-Studiengang erfährst\, besser verstehen. Wir haben dazu unten für dich verschiedene Videos vorbereitet. \nSchau als nächstes\, welche Bachelor-Studiengänge – es bei uns gibt und lies dir die Infos auf den Studiengangsseiten durch. \nKomm zu uns an den Campus\nUnd\, welcher Studiengang oder welcher Studienbereich klingt am spannendsten? Zu diesem würden wir empfehlen\, am Vor-Ort-Programm teilzunehmen\, das am Mittwoch- oder Donnerstagvormittag stattfindet. \nSelbstverständlich kannst du auch am zweiten Vormittag in weitere Studiengänge oder -bereiche vor Ort reinschnuppern. \nAber Achtung: Wir haben mehrere Standorte – bitte bei den Programmen den Veranstaltungsort beachten! \nNutze Online-Angebote am Nachmittag\nDu willst nur online an den Schnuppertagen teilnehmen? Oder noch weitere Studiengänge bzw. Studienbereiche kennenlernen? Kein Problem: \nAn beiden Schnuppertagen finden ab 16.00 Uhr Online-Live-Events statt: Es gibt eine Campusführung\, Vorstellungen von Studiengängen oder Studienbereichen und eine Sprechstunde zum Thema „Anmelden und Studieren an der Hochschule Coburg". Dabei kannst du natürlich auch online deine Fragen stellen! Die Zugangslinks findest du ganz einfach in den jeweiligen Detailprogrammen\, die ab März 2027 veröffentlicht werden. \nStadtführungFür alle\, die Coburg noch nicht kennen\, haben wir eine Stadtführung organisiert. Sie startet sowohl am Mittwoch\, den 31.03.2027\, als auch am Donnerstag\, den 01.04.2027 jeweils um 14:30 Uhr in der Coburger Innenstadt. Die Anzahl der Plätze ist begrenzt. Wer sich für die Stadtführung anmelden möchte\, schickt bitte eine E-Mail an studienberatung@hs-coburg.de. Bitte gebt dabei an\, mit wie vielen Personen ihr an der Führung teilnehmen wollt. \nWo finden die Schnuppertage statt?\n\n\nCampus Friedrich Streib in Coburg\nCampus Design in Coburg\nLucas-Cranach-Campus in Kronach\n\n\n\nVerpflegungUnsere Gäste können an den Schnuppertagen in Mensa und Cafeteria mit Bargeld bezahlen (keine Kartenzahlung möglich). \nErklärvideos\nSchau doch gleich mal in unsere Erklärvideos rein –  hier erfährst du das Wichtigste zu den Basics der Studienorientierung\, zum Anmelden und Einschreiben an der Hochschule Coburg\, zur Studienfinanzierung und zu Möglichkeiten für Auslandsaufenthalte während des Studiums. Alle Fragen\, die du dann noch hast\, kannst du an den Schnuppertagen stellen! \n      Sie sehen gerade einen Platzhalterinhalt von YouTube. Um auf den eigentlichen Inhalt zuzugreifen\, klicken Sie auf die Schaltfläche unten. Bitte beachten Sie\, dass dabei Daten an Drittanbieter weitergegeben werden.  Mehr Informationen   Inhalt entsperren Erforderlichen Service akzeptieren und Inhalte entsperren         Sie sehen gerade einen Platzhalterinhalt von YouTube. Um auf den eigentlichen Inhalt zuzugreifen\, klicken Sie auf die Schaltfläche unten. Bitte beachten Sie\, dass dabei Daten an Drittanbieter weitergegeben werden.  Mehr Informationen   Inhalt entsperren Erforderlichen Service akzeptieren und Inhalte entsperren         Sie sehen gerade einen Platzhalterinhalt von YouTube. Um auf den eigentlichen Inhalt zuzugreifen\, klicken Sie auf die Schaltfläche unten. Bitte beachten Sie\, dass dabei Daten an Drittanbieter weitergegeben werden.  Mehr Informationen   Inhalt entsperren Erforderlichen Service akzeptieren und Inhalte entsperren         Sie sehen gerade einen Platzhalterinhalt von YouTube. Um auf den eigentlichen Inhalt zuzugreifen\, klicken Sie auf die Schaltfläche unten. Bitte beachten Sie\, dass dabei Daten an Drittanbieter weitergegeben werden.  Mehr Informationen   Inhalt entsperren Erforderlichen Service akzeptieren und Inhalte entsperren   Rückblick\nDas waren die Schnuppertage 2026.
URL:https://www.hs-coburg.de/veranstaltung/schnuppertage-2027/
LOCATION:je nach Studiengangsprogramm
CATEGORIES:Externe Veranstaltung,Studium
ORGANIZER;CN="Studienberatung und Career Service":MAILTO:studienberatung@hs-coburg.de
END:VEVENT
END:VCALENDAR