BEGIN:VCALENDAR
VERSION:2.0
PRODID:-//Hochschule Coburg - ECPv6.15.15//NONSGML v1.0//EN
CALSCALE:GREGORIAN
METHOD:PUBLISH
X-WR-CALNAME:Hochschule Coburg
X-ORIGINAL-URL:https://www.hs-coburg.de
X-WR-CALDESC:Veranstaltungen für Hochschule Coburg
REFRESH-INTERVAL;VALUE=DURATION:PT1H
X-Robots-Tag:noindex
X-PUBLISHED-TTL:PT1H
BEGIN:VTIMEZONE
TZID:Europe/Berlin
BEGIN:DAYLIGHT
TZOFFSETFROM:+0100
TZOFFSETTO:+0200
TZNAME:CEST
DTSTART:20240331T010000
END:DAYLIGHT
BEGIN:STANDARD
TZOFFSETFROM:+0200
TZOFFSETTO:+0100
TZNAME:CET
DTSTART:20241027T010000
END:STANDARD
BEGIN:DAYLIGHT
TZOFFSETFROM:+0100
TZOFFSETTO:+0200
TZNAME:CEST
DTSTART:20250330T010000
END:DAYLIGHT
BEGIN:STANDARD
TZOFFSETFROM:+0200
TZOFFSETTO:+0100
TZNAME:CET
DTSTART:20251026T010000
END:STANDARD
BEGIN:DAYLIGHT
TZOFFSETFROM:+0100
TZOFFSETTO:+0200
TZNAME:CEST
DTSTART:20260329T010000
END:DAYLIGHT
BEGIN:STANDARD
TZOFFSETFROM:+0200
TZOFFSETTO:+0100
TZNAME:CET
DTSTART:20261025T010000
END:STANDARD
END:VTIMEZONE
BEGIN:VEVENT
DTSTART;TZID=Europe/Berlin:20250626T160000
DTEND;TZID=Europe/Berlin:20250626T180000
DTSTAMP:20260422T145747
CREATED:20250622T105811Z
LAST-MODIFIED:20250622T105943Z
UID:106704-1750953600-1750960800@www.hs-coburg.de
SUMMARY:Stallarchitektur: Studentische Entwürfe werden im AELF Coburg-Kulmbach ausgestellt
DESCRIPTION:Wie lassen sich moderne Stallbauten mit den Anforderungen an Tierwohl\, Umweltschutz und Wirtschaftlichkeit vereinen? Welche Rolle spielt die Integration in die Kulturlandschaft für die gesellschaftliche Akzeptanz? Mögliche Antworten auf diese und andere zentrale Fragestellungen zum Stallbau liefert die Ausstellung „Stallbauten in fränkischer Kulturlandschaft“. \nIm Foyer des Amts für Ernährung\, Landwirtschaft und Forsten (AELF) Coburg-Kulmbach am Standort Coburg präsentiert der Studiengang Architektur der Hochschule Coburg ausgewählte Arbeiten. Die Entwürfe befassen sich mit der harmonischen Einbindung landwirtschaftlicher Bauten in die fränkische Landschaft – sowohl gestalterisch als auch funktional. Die Ausstellung war von März bis Anfang Mai im AELF Bayreuth-Münchberg zu sehen. Zur Pressemitteilung inklusive Bildergalerie geht es hier. \nEinladung und Anmeldung \nDie offizielle Ausstellungseröffnung findet am Donnerstag\, 26. Juni 2025 um 16 Uhr im AELF Coburg-Kulmbach\, Goethestraße 6\, 96450 Coburg statt. Interessierte Besucher sind herzlich eingeladen und werden gebeten\, sich unter nadine.taschek@aelf-ck.bayern.de anzumelden. \nDie Ausstellung läuft bis Freitag\, 1. August 2025 und kann während der Geschäftszeiten des AELF Coburg-Kulmbach kostenfrei besucht werden.
URL:https://www.hs-coburg.de/veranstaltung/stallarchitektur-studentische-entwuerfe-werden-im-aelf-coburg-kulmbach-ausgestellt/
LOCATION:AELF Coburg-Kulmbach\, Goethestraße 6\, Coburg\, Bayern\, 96450\, Germany
CATEGORIES:Ausstellung
END:VEVENT
END:VCALENDAR