BEGIN:VCALENDAR
VERSION:2.0
PRODID:-//Hochschule Coburg - ECPv6.15.15//NONSGML v1.0//EN
CALSCALE:GREGORIAN
METHOD:PUBLISH
X-WR-CALNAME:Hochschule Coburg
X-ORIGINAL-URL:https://www.hs-coburg.de
X-WR-CALDESC:Veranstaltungen für Hochschule Coburg
REFRESH-INTERVAL;VALUE=DURATION:PT1H
X-Robots-Tag:noindex
X-PUBLISHED-TTL:PT1H
BEGIN:VTIMEZONE
TZID:Europe/Berlin
BEGIN:DAYLIGHT
TZOFFSETFROM:+0100
TZOFFSETTO:+0200
TZNAME:CEST
DTSTART:20240331T010000
END:DAYLIGHT
BEGIN:STANDARD
TZOFFSETFROM:+0200
TZOFFSETTO:+0100
TZNAME:CET
DTSTART:20241027T010000
END:STANDARD
BEGIN:DAYLIGHT
TZOFFSETFROM:+0100
TZOFFSETTO:+0200
TZNAME:CEST
DTSTART:20250330T010000
END:DAYLIGHT
BEGIN:STANDARD
TZOFFSETFROM:+0200
TZOFFSETTO:+0100
TZNAME:CET
DTSTART:20251026T010000
END:STANDARD
BEGIN:DAYLIGHT
TZOFFSETFROM:+0100
TZOFFSETTO:+0200
TZNAME:CEST
DTSTART:20260329T010000
END:DAYLIGHT
BEGIN:STANDARD
TZOFFSETFROM:+0200
TZOFFSETTO:+0100
TZNAME:CET
DTSTART:20261025T010000
END:STANDARD
END:VTIMEZONE
BEGIN:VEVENT
DTSTART;TZID=Europe/Berlin:20250114T190000
DTEND;TZID=Europe/Berlin:20250114T210000
DTSTAMP:20260423T110250
CREATED:20250108T081557Z
LAST-MODIFIED:20250108T082048Z
UID:98364-1736881200-1736888400@www.hs-coburg.de
SUMMARY:StudioX feat. „Die Pampelmusen“
DESCRIPTION:StudioX 25 – zurück aus der Weihnachtspause: Dienstag\, der 14.01.2025 im Theaterraum (10-111) ab 19:00 Uhr \n  \nEs gibt Dinge\, die sind unvermeidbar. Wie zum Beispiel der Jahreswechsel. Meist vollzieht er sich doch wirklich schnell ohne die Möglichkeit der Beeinflussung und bevor man sich versieht\, findet man sich inmitten der ernüchternden Gegenwart wieder. Weihnachten und Silvester waren vorgestern und für die meisten wird das womöglich eines bedeuten: Alltäglicher Trott\, aufbereitet mit Katastrophenmeldungen allüberall\, serviert mit einer Prise Prüfungsstress. Ganz so einfach machen wir es euch aber nicht: Was hält 2025 wirklich bereit?  \nVielleicht beantwortet uns diese Frage das hochschuleigene „Improvisationstheater Pampelmusen“. StudioX freut sich sehr über den erneuten Besuch und ist ebenso gespannt auf die Performance wie unser neugieriges Publikum.  \nErleben wir gemeinsam einen schönen Abend mit Spannung und Begeisterung. Plaudern bei Getränken kommt garantiert nie aus der Mode! Bis dahin.  \n 
URL:https://www.hs-coburg.de/veranstaltung/studiox-feat-die-pampelmusen/
LOCATION:Theaterraum (10-111)\, Campus Friedrich Streib\, Friedrich Streib Straße 2\, Coburg\, Bayern\, 96450\, Germany
ORGANIZER;CN="Prof. Dr. Bj%C3%B6rn Bicker":MAILTO:bjoern.bicker@hs-coburg.de
END:VEVENT
END:VCALENDAR