BEGIN:VCALENDAR
VERSION:2.0
PRODID:-//Hochschule Coburg - ECPv6.15.15//NONSGML v1.0//EN
CALSCALE:GREGORIAN
METHOD:PUBLISH
X-WR-CALNAME:Hochschule Coburg
X-ORIGINAL-URL:https://www.hs-coburg.de
X-WR-CALDESC:Veranstaltungen für Hochschule Coburg
REFRESH-INTERVAL;VALUE=DURATION:PT1H
X-Robots-Tag:noindex
X-PUBLISHED-TTL:PT1H
BEGIN:VTIMEZONE
TZID:Europe/Berlin
BEGIN:DAYLIGHT
TZOFFSETFROM:+0100
TZOFFSETTO:+0200
TZNAME:CEST
DTSTART:20240331T010000
END:DAYLIGHT
BEGIN:STANDARD
TZOFFSETFROM:+0200
TZOFFSETTO:+0100
TZNAME:CET
DTSTART:20241027T010000
END:STANDARD
BEGIN:DAYLIGHT
TZOFFSETFROM:+0100
TZOFFSETTO:+0200
TZNAME:CEST
DTSTART:20250330T010000
END:DAYLIGHT
BEGIN:STANDARD
TZOFFSETFROM:+0200
TZOFFSETTO:+0100
TZNAME:CET
DTSTART:20251026T010000
END:STANDARD
BEGIN:DAYLIGHT
TZOFFSETFROM:+0100
TZOFFSETTO:+0200
TZNAME:CEST
DTSTART:20260329T010000
END:DAYLIGHT
BEGIN:STANDARD
TZOFFSETFROM:+0200
TZOFFSETTO:+0100
TZNAME:CET
DTSTART:20261025T010000
END:STANDARD
END:VTIMEZONE
BEGIN:VEVENT
DTSTART;TZID=Europe/Berlin:20250225T120000
DTEND;TZID=Europe/Berlin:20250226T130000
DTSTAMP:20260423T110407
CREATED:20241217T124113Z
LAST-MODIFIED:20241217T141345Z
UID:98166-1740484800-1740574800@www.hs-coburg.de
SUMMARY:4. Technologietag angewandte Sensorik
DESCRIPTION:Der vom Institut für Sensor- und Aktortechnik (ISAT) der Hochschule Coburg veranstaltete Technologietag Angewandte Sensorik (TAS) richtet sich an alle\, die an praxisnahen und zukunftsweisenden Lösungen im Bereich der „smarten Sensorik" interessiert sind. Im Rahmen von Fachvorträgen\, Posterpräsentationen und Exponaten erhalten die Teilnehmerinnen Einblicke in aktuelle Sensorikentwicklungen im Bereich der Automatisierung\, Mobilität\, Medizintechnik und des Umweltmonitoring. Der TAS bietet dabei eine wertvolle Networking-Plattform\, die den Austausch und die Zusammenarbeit zwischen Forschung und Industrie fördert und Raum für die Diskussion messtechnischer Fragestellungen mit führenden Expertinnen eröffnet. Die Veranstaltung richtet sich an Unternehmen\, Vertreter von Forschungseinrichtungen\, Sensorherstellern und Multiplikatoren aus Fachnetzwerken. \nProgrammCall for BeiträgeAnmeldungDer Technologietag beginnt am Dienstag den 25.02.2025 mittags mit Fachvorträgen bis um ca. 17 Uhr. Im Anschluss wird es ein Abendprogramm zum Netzwerken geben. Am nächsten Tag geht es von 9 Uhr bis 13 Uhr mit Fachvorträgen weiter. Im Anschluss an die Veranstaltung besteht die Möglichkeit die Labore des Instituts zu besichtigen. Detaillierte Informationen finden Sie unter: https://www.isat-coburg.de/tas-2025/
URL:https://www.hs-coburg.de/veranstaltung/technologietag/
LOCATION:Campus Friedrich Streib\, Friedrich-Streib-Str. 2\, Coburg\, 96450\, Deutschland
CATEGORIES:Externe Veranstaltung
ORGANIZER;CN="Sabrina Tietze":MAILTO:sabrina.tietze@hs-coburg.de
END:VEVENT
END:VCALENDAR