BEGIN:VCALENDAR
VERSION:2.0
PRODID:-//Hochschule Coburg - ECPv6.15.15//NONSGML v1.0//EN
CALSCALE:GREGORIAN
METHOD:PUBLISH
X-WR-CALNAME:Hochschule Coburg
X-ORIGINAL-URL:https://www.hs-coburg.de
X-WR-CALDESC:Veranstaltungen für Hochschule Coburg
REFRESH-INTERVAL;VALUE=DURATION:PT1H
X-Robots-Tag:noindex
X-PUBLISHED-TTL:PT1H
BEGIN:VTIMEZONE
TZID:Europe/Berlin
BEGIN:DAYLIGHT
TZOFFSETFROM:+0100
TZOFFSETTO:+0200
TZNAME:CEST
DTSTART:20250330T010000
END:DAYLIGHT
BEGIN:STANDARD
TZOFFSETFROM:+0200
TZOFFSETTO:+0100
TZNAME:CET
DTSTART:20251026T010000
END:STANDARD
BEGIN:DAYLIGHT
TZOFFSETFROM:+0100
TZOFFSETTO:+0200
TZNAME:CEST
DTSTART:20260329T010000
END:DAYLIGHT
BEGIN:STANDARD
TZOFFSETFROM:+0200
TZOFFSETTO:+0100
TZNAME:CET
DTSTART:20261025T010000
END:STANDARD
BEGIN:DAYLIGHT
TZOFFSETFROM:+0100
TZOFFSETTO:+0200
TZNAME:CEST
DTSTART:20270328T010000
END:DAYLIGHT
BEGIN:STANDARD
TZOFFSETFROM:+0200
TZOFFSETTO:+0100
TZNAME:CET
DTSTART:20271031T010000
END:STANDARD
END:VTIMEZONE
BEGIN:VEVENT
DTSTART;TZID=Europe/Berlin:20260918T170000
DTEND;TZID=Europe/Berlin:20260918T223000
DTSTAMP:20260423T130554
CREATED:20240923T122404Z
LAST-MODIFIED:20260115T085953Z
UID:86771-1789750800-1789770600@www.hs-coburg.de
SUMMARY:Verabschiedung der Absolventinnen und Absolventen
DESCRIPTION:Die Verabschiedung unserer Absolventinnen und Absolventen aus dem WS 24/25 und dem SoSe 24 hat am 04.07.2025 stattgefunden. Fast 200 Absolventinnen und Absolventen kamen mit Familie und Freunden ins Kongresshaus Rosengarten\, um den erfolgreichen Studienabschluss gebührend zu feiern. \nDie Fotos des Abends werden wir allen anwesenden Absolventinnen und Absolventen in Kürze über einen Link per Mail zur Verfügung stellen. \nWir hoffen\, Ihr hattet einen schönen Abend und wünschen euch für die Zukunft alles Gute! Behalte eure Alma Mater in guter Erinnerung. \nSave the Date – 2026\nAber nach der Verabschiedung ist vor der Verabschiedung. Wir bitten daher alle Studierenden der Hochschule Coburg\, die sich in der Endphase Ihres Studiums befinden\, sich den Termin der nächsten Verabschiedung bereits vorzumerken! \nNormalerweise findet die Verabschiedung jedes Jahr am letzten Freitag im Juni oder am ersten Freitag im Juli statt. Da das Kongresshaus Rosengarten im Frühjahr für Renovierungsarbeiten geschlossen wird und das Ende dieser Schließzeit genau in unseren geplanten Veranstaltungszeitraum fällt\, besteht ein erhöhtes Risiko\, dass die Arbeiten nicht rechtzeitig abgeschlossen werden. Da es in Coburg keine geeigneten Alternativ-Locations gibt\, um euch eine Abschiedsfeier in der gewohnten Größe und mit der üblichen Teilnehmerzahl zu ermöglichen\, haben wir uns entschieden\, den Termin in den September zu verlegen. \nWir hoffen vielmals auf euer Verständnis! \nDie Abschiedsfeier 2026 findet am 18. September 2026 im Kongresshaus Rosengarten statt. \nWir freuen uns darauf\, mit euch gemeinsam einen schönen Abend zu verbringen! \nEinladung Verabschiedung 2026\nEine Einladung geht postalisch an alle Absolventinnen und Absolventen\, deren Abschlussnoten im Zeitraum vom 15. März 2025 bis 14. März 2026 festgestellt werden. Der Versand der Einladungen erfolgt voraussichtlich im Mai 2026. Bitte achtet darauf\, auch nach Ende des Studiums\, aktuelle Adressdaten in Primuss zu hinterlegen. \nAchtung! Solltest du keinen Zugang mehr zu Primuss haben\, dann schicke bitte deine aktuellen Daten\, falls sich diese geändert haben sollten\, an events@hs-coburg.de! \nProgramm\nDetails zum Programm folgen im Frühjahr 2026. \nBitte beachtet\, bei der Abschiedsfeier findet keine Zeugnisübergabe statt. Die Abschlusszeugnisse werden auf dem Postweg zugestellt. \nLeistungsmedaillen\nWas wäre eine Absolventenverabschiedung ohne Medaillen? Natürlich werden auch bei dieser Abschiedsfeier die heiß begehrten Leistungsmedaillen an die besten Absolventinnen und Absolventen verliehen. Da wir den Schwerpunkt der Veranstaltung auf ein gemeinsames Beisammensein und schwelgen in Erinnerungen legen\, haben wir uns bewusst gegen eine Übergabe während des Festakts entschieden. Ziel ist es\, den Festakt so kurzlebig wie möglich zu halten. Die Medaillen gibt es daher im Anschluss\, persönlich\, nah und ganz unkompliziert. Lasst euch überraschen und seht selbst\, wo ihr eure Medaillen finden könnt. \nUnd wer bekommt nun die Leistungsmedaille? Die Medaillenträgerinnen und Medaillenträger werden im Mai per Post bzw. E-Mail von uns benachrichtigt. Sollte jemand nicht an der Veranstaltung teilnehmen können\, versenden wir die Medaille einschließlich Urkunde nach der Veranstaltung per Post. \nBleib mit deiner Hochschule in Kontakt\nHochschulverein Coburg e.V.\nKennst du den Hochschulverein Coburg e.V. oder bist du bereits Mitlied? Werde Teil von etwas Großem und helfe dem Hochschulverein Coburg e.V dabei\, Studierende und die Hochschule Coburg zu unterstützen. \nMehr Informationen zum Hochschulverein: www.hochschulverein-coburg.de! \nAudioguide: Auf Hochschulspuren in Coburg\nSie möchten bereits vorab in Coburg auf den Pfaden der Hochschule wandeln? „Auf Hochschulspuren in Coburg" heißt die Stadtführung zum Hören\, mit der die Hochschule zum Spaziergang durch die Innenstadt\, über den Campus Design und den Campus Friedrich Streib einlädt. \nDie Tour wurde anlässlich des 50. Jubiläums der Hochschule zusammengestellt\, führt aber bis zu den Anfängen der Schule für bürgerliche Baukunst zurück. Es ist die etwas andere Coburger Stadtführung mit überraschenden Fakten und spannenden Details rund ums Hochschulleben. \nDer Audioguide ist fürs Smartphone kostenlos in deutscher und englischer Sprache verfügbar. \nDownload: über die Guidemate App\nSuchbegriff: Auf Hochschulspuren in Coburg \nAlumni-Newsletter\nDu möchtest über Neuigkeiten und Veranstaltungen der Hochschule Coburg regelmäßig informiert werden? Dann melde dich zum Alumni-Newsletter an. \nBitte beachte: Deine Angaben werden verschlüsselt an unseren Server geschickt. Du erklärst dich damit einverstanden\, dass wir die Angaben zum Versand unseres Newsletters verwenden dürfen. Hier findest du unsere Datenschutzerklärung. \nBitte aktiviere JavaScript in deinem Browser\, um dieses Formular fertigzustellen.Bitte aktiviere JavaScript in deinem Browser\, um dieses Formular fertigzustellen.TitelName *VornameNachnameUnternehmenFunktionE-Mail-Adresse *NewsletterNeuigkeiten für Alumni und EhemaligeNeuigkeiten für UnternehmenDatenschutz *Ich habe die Datenschutzerklärung der Hochschule Coburg gelesen und stimme der Verarbeitung meiner Daten im Rahmen des Newsletter-Versands zu.Pflichtfelder müssen ausgefüllt werden. \nAnmelden
URL:https://www.hs-coburg.de/veranstaltung/verabschiedung-der-absolventinnen-und-absolventen/
LOCATION:Kongresshaus Rosengarten\, Berliner Platz 1\, Coburg\, 96450\, Germany
CATEGORIES:Externe Veranstaltung
ORGANIZER;CN="Franziska B%C3%B6rner":MAILTO:events@hs-coburg.de
END:VEVENT
END:VCALENDAR